BEGIN:VCALENDAR
VERSION:2.0
PRODID:-//Reborn - ECPv5.5.0.1//NONSGML v1.0//EN
CALSCALE:GREGORIAN
METHOD:PUBLISH
X-WR-CALNAME:Reborn
X-ORIGINAL-URL:https://rebornacademy.org
X-WR-CALDESC:Events for Reborn
BEGIN:VTIMEZONE
TZID:UTC
BEGIN:STANDARD
TZOFFSETFROM:+0000
TZOFFSETTO:+0000
TZNAME:UTC
DTSTART:20200101T000000
END:STANDARD
END:VTIMEZONE
BEGIN:VEVENT
DTSTART;TZID=UTC:20200410T080000
DTEND;TZID=UTC:20200410T170000
DTSTAMP:20260424T160744
CREATED:20190410T180603Z
LAST-MODIFIED:20190922T030415Z
UID:1816-1586505600-1586538000@rebornacademy.org
SUMMARY:APR 10 GOOD FRIDAY
DESCRIPTION:
URL:https://rebornacademy.org/event/apr-10-good-friday/
END:VEVENT
END:VCALENDAR