BEGIN:VCALENDAR
VERSION:2.0
PRODID:-//Reborn - ECPv5.5.0.1//NONSGML v1.0//EN
CALSCALE:GREGORIAN
METHOD:PUBLISH
X-WR-CALNAME:Reborn
X-ORIGINAL-URL:https://rebornacademy.org
X-WR-CALDESC:Events for Reborn
BEGIN:VTIMEZONE
TZID:UTC
BEGIN:STANDARD
TZOFFSETFROM:+0000
TZOFFSETTO:+0000
TZNAME:UTC
DTSTART:20190101T000000
END:STANDARD
END:VTIMEZONE
BEGIN:VEVENT
DTSTART;TZID=UTC:20191223T080000
DTEND;TZID=UTC:20191223T170000
DTSTAMP:20260420T092612
CREATED:20190914T165103Z
LAST-MODIFIED:20190922T025308Z
UID:1799-1577088000-1577120400@rebornacademy.org
SUMMARY:DEC-23 JAN 6 WINTER BREAK – TEACHER/STUDENT HOLIDAY
DESCRIPTION:
URL:https://rebornacademy.org/event/dec-23-jan-6-winter-break-teacher-student-holiday/
END:VEVENT
END:VCALENDAR