BEGIN:VCALENDAR
VERSION:2.0
PRODID:-//Reborn - ECPv5.5.0.1//NONSGML v1.0//EN
CALSCALE:GREGORIAN
METHOD:PUBLISH
X-WR-CALNAME:Reborn
X-ORIGINAL-URL:https://rebornacademy.org
X-WR-CALDESC:Events for Reborn
BEGIN:VTIMEZONE
TZID:UTC
BEGIN:STANDARD
TZOFFSETFROM:+0000
TZOFFSETTO:+0000
TZNAME:UTC
DTSTART:20180101T000000
END:STANDARD
END:VTIMEZONE
BEGIN:VEVENT
DTSTART;TZID=UTC:20181012T080000
DTEND;TZID=UTC:20181012T170000
DTSTAMP:20260422T000657
CREATED:20181012T141904Z
LAST-MODIFIED:20181012T142013Z
UID:1342-1539331200-1539363600@rebornacademy.org
SUMMARY:Employee Retreats
DESCRIPTION:Employee retreat at 8:00 am with Pastor  Anette Marrero with the word of God.
URL:https://rebornacademy.org/event/employee-retreats/
END:VEVENT
END:VCALENDAR