BEGIN:VCALENDAR
VERSION:2.0
PRODID:-//Reborn - ECPv5.5.0.1//NONSGML v1.0//EN
CALSCALE:GREGORIAN
METHOD:PUBLISH
X-WR-CALNAME:Reborn
X-ORIGINAL-URL:https://rebornacademy.org
X-WR-CALDESC:Events for Reborn
BEGIN:VTIMEZONE
TZID:UTC
BEGIN:STANDARD
TZOFFSETFROM:+0000
TZOFFSETTO:+0000
TZNAME:UTC
DTSTART:20180101T000000
END:STANDARD
END:VTIMEZONE
BEGIN:VEVENT
DTSTART;TZID=UTC:20180810T180000
DTEND;TZID=UTC:20180810T190000
DTSTAMP:20260426T001528
CREATED:20180621T184413Z
LAST-MODIFIED:20180622T140116Z
UID:1104-1533924000-1533927600@rebornacademy.org
SUMMARY:Reunión de Bienvenida de Escuela Superior
DESCRIPTION:Reunión de Bienvenida de Escuela Superior estará tomando lugar 8/10/2018 a las 6:00 pm en 4710 W. Irlo Bronson Mem. Hwy  Kissimmee FL 34746.
URL:https://rebornacademy.org/event/high-school-open-house-meeting/
LOCATION:Reborn Christian Academy\, 4710 W. Irlo Bronson Mem. Hwy \, Kissimmee\, FL\, 34746\, United States
END:VEVENT
END:VCALENDAR