BEGIN:VCALENDAR
VERSION:2.0
PRODID:-//Reborn - ECPv5.5.0.1//NONSGML v1.0//EN
CALSCALE:GREGORIAN
METHOD:PUBLISH
X-WR-CALNAME:Reborn
X-ORIGINAL-URL:https://rebornacademy.org
X-WR-CALDESC:Events for Reborn
BEGIN:VTIMEZONE
TZID:UTC
BEGIN:STANDARD
TZOFFSETFROM:+0000
TZOFFSETTO:+0000
TZNAME:UTC
DTSTART:20180101T000000
END:STANDARD
END:VTIMEZONE
BEGIN:VEVENT
DTSTART;VALUE=DATE:20181012
DTEND;VALUE=DATE:20181013
DTSTAMP:20260422T015310
CREATED:20181012T141018Z
LAST-MODIFIED:20181012T141018Z
UID:1339-1539302400-1539388799@rebornacademy.org
SUMMARY:Hispanic Heritage Celebration
DESCRIPTION:Hispanic Heritage Celebration from K thru 12th
URL:https://rebornacademy.org/event/hispanic-heritage-celebration/
END:VEVENT
END:VCALENDAR