BEGIN:VCALENDAR
VERSION:2.0
PRODID:-//Reborn - ECPv5.5.0.1//NONSGML v1.0//EN
CALSCALE:GREGORIAN
METHOD:PUBLISH
X-WR-CALNAME:Reborn
X-ORIGINAL-URL:https://rebornacademy.org
X-WR-CALDESC:Events for Reborn
BEGIN:VTIMEZONE
TZID:UTC
BEGIN:STANDARD
TZOFFSETFROM:+0000
TZOFFSETTO:+0000
TZNAME:UTC
DTSTART:20200101T000000
END:STANDARD
END:VTIMEZONE
BEGIN:VEVENT
DTSTART;TZID=UTC:20200529T080000
DTEND;TZID=UTC:20200529T080000
DTSTAMP:20260424T160253
CREATED:20190529T060010Z
LAST-MODIFIED:20190922T030146Z
UID:1828-1590739200-1590739200@rebornacademy.org
SUMMARY:MAY 29 - 12TH GRADE GRADUATION
DESCRIPTION:
URL:https://rebornacademy.org/event/may-29-12th-grade-graduation/
END:VEVENT
END:VCALENDAR