BEGIN:VCALENDAR
VERSION:2.0
PRODID:-//Reborn - ECPv5.5.0.1//NONSGML v1.0//EN
CALSCALE:GREGORIAN
METHOD:PUBLISH
X-WR-CALNAME:Reborn
X-ORIGINAL-URL:https://rebornacademy.org
X-WR-CALDESC:Events for Reborn
BEGIN:VTIMEZONE
TZID:UTC
BEGIN:STANDARD
TZOFFSETFROM:+0000
TZOFFSETTO:+0000
TZNAME:UTC
DTSTART:20190101T000000
END:STANDARD
END:VTIMEZONE
BEGIN:VEVENT
DTSTART;TZID=UTC:20191101T080000
DTEND;TZID=UTC:20191101T170000
DTSTAMP:20260420T154928
CREATED:20190914T162830Z
LAST-MODIFIED:20190922T025720Z
UID:1788-1572595200-1572627600@rebornacademy.org
SUMMARY:NOV-1 PICNIC OR INTERNAL ACTIVITY
DESCRIPTION:
URL:https://rebornacademy.org/event/nov-1-picnic-or-internal-activity/
END:VEVENT
END:VCALENDAR