BEGIN:VCALENDAR
VERSION:2.0
PRODID:-//Reborn - ECPv5.5.0.1//NONSGML v1.0//EN
CALSCALE:GREGORIAN
METHOD:PUBLISH
X-WR-CALNAME:Reborn
X-ORIGINAL-URL:https://rebornacademy.org
X-WR-CALDESC:Events for Reborn
BEGIN:VTIMEZONE
TZID:UTC
BEGIN:STANDARD
TZOFFSETFROM:+0000
TZOFFSETTO:+0000
TZNAME:UTC
DTSTART:20190101T000000
END:STANDARD
END:VTIMEZONE
BEGIN:VEVENT
DTSTART;TZID=UTC:20191011T080000
DTEND;TZID=UTC:20191011T170000
DTSTAMP:20260421T023456
CREATED:20190914T162130Z
LAST-MODIFIED:20190922T030040Z
UID:1779-1570780800-1570813200@rebornacademy.org
SUMMARY:OCT-11 END OF 1ST GRADING PERIOD
DESCRIPTION:
URL:https://rebornacademy.org/event/oct-11-end-of-1st-grading-period/
END:VEVENT
END:VCALENDAR