BEGIN:VCALENDAR
VERSION:2.0
PRODID:-//Reborn - ECPv5.5.0.1//NONSGML v1.0//EN
CALSCALE:GREGORIAN
METHOD:PUBLISH
X-WR-CALNAME:Reborn
X-ORIGINAL-URL:https://rebornacademy.org
X-WR-CALDESC:Events for Reborn
BEGIN:VTIMEZONE
TZID:UTC
BEGIN:STANDARD
TZOFFSETFROM:+0000
TZOFFSETTO:+0000
TZNAME:UTC
DTSTART:20190101T000000
END:STANDARD
END:VTIMEZONE
BEGIN:VEVENT
DTSTART;TZID=UTC:20191015T080000
DTEND;TZID=UTC:20191015T170000
DTSTAMP:20260420T205550
CREATED:20190914T162553Z
LAST-MODIFIED:20190922T025824Z
UID:1784-1571126400-1571158800@rebornacademy.org
SUMMARY:OCT-15 TEACHER WORK DAY/STUDENT HOLIDAY
DESCRIPTION:
URL:https://rebornacademy.org/event/oct-15-teacher-work-day-student-holiday/
END:VEVENT
END:VCALENDAR