BEGIN:VCALENDAR
VERSION:2.0
PRODID:-//Reborn - ECPv5.5.0.1//NONSGML v1.0//EN
CALSCALE:GREGORIAN
METHOD:PUBLISH
X-WR-CALNAME:Reborn
X-ORIGINAL-URL:https://rebornacademy.org
X-WR-CALDESC:Events for Reborn
BEGIN:VTIMEZONE
TZID:UTC
BEGIN:STANDARD
TZOFFSETFROM:+0000
TZOFFSETTO:+0000
TZNAME:UTC
DTSTART:20190101T000000
END:STANDARD
END:VTIMEZONE
BEGIN:VEVENT
DTSTART;TZID=UTC:20191016T080000
DTEND;TZID=UTC:20191016T170000
DTSTAMP:20260420T190307
CREATED:20190914T162700Z
LAST-MODIFIED:20190922T025815Z
UID:1786-1571212800-1571245200@rebornacademy.org
SUMMARY:OCT-16 FIRST DAY of 2ND GRADING PERIOD
DESCRIPTION:
URL:https://rebornacademy.org/event/oct-16-first-day-of-2nd-grading-period/
END:VEVENT
END:VCALENDAR