BEGIN:VCALENDAR
VERSION:2.0
PRODID:-//Reborn - ECPv5.5.0.1//NONSGML v1.0//EN
CALSCALE:GREGORIAN
METHOD:PUBLISH
X-WR-CALNAME:Reborn
X-ORIGINAL-URL:https://rebornacademy.org
X-WR-CALDESC:Events for Reborn
BEGIN:VTIMEZONE
TZID:UTC
BEGIN:STANDARD
TZOFFSETFROM:+0000
TZOFFSETTO:+0000
TZNAME:UTC
DTSTART:20180101T000000
END:STANDARD
END:VTIMEZONE
BEGIN:VEVENT
DTSTART;TZID=UTC:20181026T080000
DTEND;TZID=UTC:20181026T170000
DTSTAMP:20260421T203941
CREATED:20181012T144512Z
LAST-MODIFIED:20181012T144850Z
UID:1349-1540540800-1540573200@rebornacademy.org
SUMMARY:Orlando Science Center School Field Trip
DESCRIPTION:School Field Trip for the Grades 4th & 5th \n  \n 
URL:https://rebornacademy.org/event/orlando-science-center-school-field-trip/
END:VEVENT
END:VCALENDAR