BEGIN:VCALENDAR
VERSION:2.0
PRODID:-//Reborn - ECPv5.5.0.1//NONSGML v1.0//EN
CALSCALE:GREGORIAN
METHOD:PUBLISH
X-WR-CALNAME:Reborn
X-ORIGINAL-URL:https://rebornacademy.org
X-WR-CALDESC:Events for Reborn
BEGIN:VTIMEZONE
TZID:UTC
BEGIN:STANDARD
TZOFFSETFROM:+0000
TZOFFSETTO:+0000
TZNAME:UTC
DTSTART:20190101T000000
END:STANDARD
END:VTIMEZONE
BEGIN:VEVENT
DTSTART;TZID=UTC:20190923T170000
DTEND;TZID=UTC:20190923T200000
DTSTAMP:20260421T110902
CREATED:20190922T031759Z
LAST-MODIFIED:20190922T031852Z
UID:1862-1569258000-1569268800@rebornacademy.org
SUMMARY:SEP 23 RCA LADY'S KNIGHT VS WADE CHRISTIAN
DESCRIPTION:HOME GAME AT 1751 Rhode Island Woods Cir\, Orlando\, FL 32824  5:00 PM 
URL:https://rebornacademy.org/event/sep-23-rca-ladys-knight-vs-wade-christian/
END:VEVENT
END:VCALENDAR