BEGIN:VCALENDAR
VERSION:2.0
PRODID:-//Reborn - ECPv5.5.0.1//NONSGML v1.0//EN
CALSCALE:GREGORIAN
METHOD:PUBLISH
X-WR-CALNAME:Reborn
X-ORIGINAL-URL:https://rebornacademy.org
X-WR-CALDESC:Events for Reborn
BEGIN:VTIMEZONE
TZID:UTC
BEGIN:STANDARD
TZOFFSETFROM:+0000
TZOFFSETTO:+0000
TZNAME:UTC
DTSTART:20180101T000000
END:STANDARD
END:VTIMEZONE
BEGIN:VEVENT
DTSTART;TZID=UTC:20181115T080000
DTEND;TZID=UTC:20181115T143000
DTSTAMP:20260421T160221
CREATED:20181107T184838Z
LAST-MODIFIED:20181107T191234Z
UID:1434-1542268800-1542292200@rebornacademy.org
SUMMARY:REBORN CHRISTIAN ACADEMY 2018 THANKSGIVING RACE
DESCRIPTION:Download Thanksgiving Race Permission Slip
URL:https://rebornacademy.org/event/thanksgiving-race/
ATTACH;FMTTYPE=image/jpeg:https://rebornacademy.org/wp-content/uploads/2018/11/dia-de-accion-de-gracias_012.jpg
END:VEVENT
END:VCALENDAR