BEGIN:VCALENDAR
VERSION:2.0
PRODID:-//Reborn - ECPv5.5.0.1//NONSGML v1.0//EN
CALSCALE:GREGORIAN
METHOD:PUBLISH
X-WR-CALNAME:Reborn
X-ORIGINAL-URL:https://rebornacademy.org
X-WR-CALDESC:Events for Reborn
BEGIN:VTIMEZONE
TZID:UTC
BEGIN:STANDARD
TZOFFSETFROM:+0000
TZOFFSETTO:+0000
TZNAME:UTC
DTSTART:20180101T000000
END:STANDARD
END:VTIMEZONE
BEGIN:VEVENT
DTSTART;TZID=UTC:20180531T080000
DTEND;TZID=UTC:20180531T170000
DTSTAMP:20260426T033745
CREATED:20180509T232634Z
LAST-MODIFIED:20180509T232634Z
UID:58-1527753600-1527786000@rebornacademy.org
SUMMARY:Senior Graduation Ceremony & Dance
DESCRIPTION:
URL:https://rebornacademy.org/event/senior-graduation-ceremony-dance/
END:VEVENT
BEGIN:VEVENT
DTSTART;TZID=UTC:20180531T080000
DTEND;TZID=UTC:20180531T170000
DTSTAMP:20260426T033745
CREATED:20180621T185213Z
LAST-MODIFIED:20180622T135940Z
UID:1112-1527753600-1527786000@rebornacademy.org
SUMMARY:Ceremonia de Graduación de Escuela y Baile
DESCRIPTION:
URL:https://rebornacademy.org/event/senior-graduation-ceremony-dance/
END:VEVENT
END:VCALENDAR