BEGIN:VCALENDAR
VERSION:2.0
PRODID:-//Reborn - ECPv5.5.0.1//NONSGML v1.0//EN
CALSCALE:GREGORIAN
METHOD:PUBLISH
X-WR-CALNAME:Reborn
X-ORIGINAL-URL:https://rebornacademy.org
X-WR-CALDESC:Events for Reborn
BEGIN:VTIMEZONE
TZID:UTC
BEGIN:STANDARD
TZOFFSETFROM:+0000
TZOFFSETTO:+0000
TZNAME:UTC
DTSTART:20180101T000000
END:STANDARD
END:VTIMEZONE
BEGIN:VEVENT
DTSTART;TZID=UTC:20180711T180000
DTEND;TZID=UTC:20180711T190000
DTSTAMP:20260426T020309
CREATED:20180628T193239Z
LAST-MODIFIED:20180711T140812Z
UID:1178-1531332000-1531335600@rebornacademy.org
SUMMARY:Therapy Service Meeting
DESCRIPTION:To All parents that their child receives’ Therapy Services: We extend a cordial invitation next week Wednesday\, July 11\, 2018\, at 6:00 pm. \nWe will present therapy services that will be offered starting August 2018\, these services will be provided at our facility. Topics to discuss are the plans during the school year and Therapist that will be working along side with your child. Make necessary arrangements ahead of time\, so you can receive all the necessary information to continue therapy services.\nIf you have any questions or concerns\, don’t hesitate to contact the school. \nA todos los padres que sus hijos reciben servicios de terapias. Queremos extenderles una cordial invitación para el próximo miércoles 11 de julio de 2018\, a las 6:00 p.m. \nEn las facilidades de nuestra academia para presentarles los servicios de terapias que a partir del mes de agosto de 2018 se estarán brindando en nuestra institución. Queremos que conozcan los planes\, parte del equipo de trabajo entre otros topicos a tocar. Esperamos puedan hacer los arreglos pertinentes para que puedan asistir y puedan tener a la mano toda la información para que sus hijos continuen recibiendo sus servicios sin interrupción. \nCualquier pregunta siéntase en la libertad de comunicarse a nuestra academia.
URL:https://rebornacademy.org/event/1178/
LOCATION:Reborn Christian Academy\, 4710 W. Irlo Bronson Mem. Hwy \, Kissimmee\, FL\, 34746\, United States
END:VEVENT
END:VCALENDAR