BEGIN:VCALENDAR
VERSION:2.0
PRODID:-//Reborn - ECPv5.5.0.1//NONSGML v1.0//EN
CALSCALE:GREGORIAN
METHOD:PUBLISH
X-WR-CALNAME:Reborn
X-ORIGINAL-URL:https://rebornacademy.org
X-WR-CALDESC:Events for Reborn
BEGIN:VTIMEZONE
TZID:UTC
BEGIN:STANDARD
TZOFFSETFROM:+0000
TZOFFSETTO:+0000
TZNAME:UTC
DTSTART:20200101T000000
END:STANDARD
END:VTIMEZONE
BEGIN:VEVENT
DTSTART;TZID=UTC:20200316T080000
DTEND;TZID=UTC:20200316T170000
DTSTAMP:20260424T172418
CREATED:20190316T180319Z
LAST-MODIFIED:20190922T030649Z
UID:1812-1584345600-1584378000@rebornacademy.org
SUMMARY:MAR 16-20 SPRING BREAK – TEACHER/STUDENT HOLIDAY
DESCRIPTION:
URL:https://rebornacademy.org/event/mar-16-20-spring-break-teacher-student-holiday/
END:VEVENT
END:VCALENDAR