BEGIN:VCALENDAR
VERSION:2.0
PRODID:-//Reborn - ECPv5.5.0.1//NONSGML v1.0//EN
CALSCALE:GREGORIAN
METHOD:PUBLISH
X-WR-CALNAME:Reborn
X-ORIGINAL-URL:https://rebornacademy.org
X-WR-CALDESC:Events for Reborn
BEGIN:VTIMEZONE
TZID:UTC
BEGIN:STANDARD
TZOFFSETFROM:+0000
TZOFFSETTO:+0000
TZNAME:UTC
DTSTART:20200101T000000
END:STANDARD
END:VTIMEZONE
BEGIN:VEVENT
DTSTART;TZID=UTC:20200522T080000
DTEND;TZID=UTC:20200522T170000
DTSTAMP:20260424T142825
CREATED:20190922T023407Z
LAST-MODIFIED:20190922T024645Z
UID:1843-1590134400-1590166800@rebornacademy.org
SUMMARY:MAY 22 END OF 4TH GRADING PERIOD – LAST DAY OF CLASS
DESCRIPTION:
URL:https://rebornacademy.org/event/may-22-end-of-4th-grading-period-last-student-day/
END:VEVENT
END:VCALENDAR